BEGIN:VCALENDAR
VERSION:2.0
PRODID:-//ISC2 Chapter in South Africa - ECPv6.15.11//NONSGML v1.0//EN
CALSCALE:GREGORIAN
METHOD:PUBLISH
X-ORIGINAL-URL:https://isc2gauteng.org
X-WR-CALDESC:Events for ISC2 Chapter in South Africa
REFRESH-INTERVAL;VALUE=DURATION:PT1H
X-Robots-Tag:noindex
X-PUBLISHED-TTL:PT1H
BEGIN:VTIMEZONE
TZID:Europe/Helsinki
BEGIN:DAYLIGHT
TZOFFSETFROM:+0200
TZOFFSETTO:+0300
TZNAME:EEST
DTSTART:20220327T010000
END:DAYLIGHT
BEGIN:STANDARD
TZOFFSETFROM:+0300
TZOFFSETTO:+0200
TZNAME:EET
DTSTART:20221030T010000
END:STANDARD
BEGIN:DAYLIGHT
TZOFFSETFROM:+0200
TZOFFSETTO:+0300
TZNAME:EEST
DTSTART:20230326T010000
END:DAYLIGHT
BEGIN:STANDARD
TZOFFSETFROM:+0300
TZOFFSETTO:+0200
TZNAME:EET
DTSTART:20231029T010000
END:STANDARD
BEGIN:DAYLIGHT
TZOFFSETFROM:+0200
TZOFFSETTO:+0300
TZNAME:EEST
DTSTART:20240331T010000
END:DAYLIGHT
BEGIN:STANDARD
TZOFFSETFROM:+0300
TZOFFSETTO:+0200
TZNAME:EET
DTSTART:20241027T010000
END:STANDARD
BEGIN:DAYLIGHT
TZOFFSETFROM:+0200
TZOFFSETTO:+0300
TZNAME:EEST
DTSTART:20250330T010000
END:DAYLIGHT
BEGIN:STANDARD
TZOFFSETFROM:+0300
TZOFFSETTO:+0200
TZNAME:EET
DTSTART:20251026T010000
END:STANDARD
BEGIN:DAYLIGHT
TZOFFSETFROM:+0200
TZOFFSETTO:+0300
TZNAME:EEST
DTSTART:20260329T010000
END:DAYLIGHT
BEGIN:STANDARD
TZOFFSETFROM:+0300
TZOFFSETTO:+0200
TZNAME:EET
DTSTART:20261025T010000
END:STANDARD
END:VTIMEZONE
BEGIN:VEVENT
DTSTART;TZID=Europe/Helsinki:20250619T180000
DTEND;TZID=Europe/Helsinki:20250619T190000
DTSTAMP:20260421T233402
CREATED:20250614T150601Z
LAST-MODIFIED:20250619T131018Z
UID:1716-1750356000-1750359600@isc2gauteng.org
SUMMARY:Grab A Brew Chapter Meeting 19 June 2025
DESCRIPTION:🚨 Cybersecurity alert! 🚨\n  \nGrab your go-to drink—whether it’s a cold beer\, a strong coffee\, or a fancy herbal tea—and pull up a chair! The ISC2 Gauteng Chapter Community is where the real talk happens. We’re diving into the hottest trends in cybersecurity\, the latest hacks making headlines\, and what you need to do to stay ahead of cyber threats.\n  \nIt’s 2025\, and cyber-attacks are coming in fast—from ransomware nightmares to massive data breaches. Big names in healthcare\, education\, and government have already been hit\, proving that no one’s immune.\n  \nJoin the ISC2 Gauteng Chapter for an engaging virtual event as we explore a critical and timely topic:\n“The Use of AI in Offensive Cyber Attacks”.\nDiscover how AI is reshaping the threat landscape—from deepfake-driven scams to adaptive malware and AI-powered phishing. \nWhether you’re a cybersecurity professional\, student\, or tech enthusiast\, this session will offer insights\, real-life incidents\, and strategies to stay ahead. \nLet’s talk AI\, cyber warfare\, and the future of security. \n 🔒💻🔥\n#CyberAwareness #StaySecure #ISC2Gauteng.\n  \nThis virtual event qualifies for 1 CPE credit. \nREGISTRATION CLOSED\n\nEvent Agenda\n18h00: Welcome. Kemeshan Moodley (Membership Chair) \n18h05: Topics under discussion and community Interaction (Facilitated by Daryl Nyawasha – Chapter Secretary) \n19h00 Closing (Innocent Katanda – Treasurer)
URL:https://isc2gauteng.org/event/grab-a-brew-chapter-meeting-19-june-2025/
CATEGORIES:Cybersecurity Awareness
ATTACH;FMTTYPE=image/png:https://isc2gauteng.org/wp-content/uploads/2023/01/cyber-security-internet-security-computer-security-1805632.png
ORGANIZER;CN="ISC2 Chapter Gauteng":MAILTO:events@isc2gauteng.org
END:VEVENT
BEGIN:VEVENT
DTSTART;TZID=Europe/Helsinki:20230228T173000
DTEND;TZID=Europe/Helsinki:20230228T183000
DTSTAMP:20260421T233402
CREATED:20230208T094559Z
LAST-MODIFIED:20230224T124442Z
UID:718-1677605400-1677609000@isc2gauteng.org
SUMMARY:Grab A Brew Chapter Meeting
DESCRIPTION:Grab your favorite brew (beer\, wine\, coffee\, tea\, or whatever you prefer) and interact with the (ISC)² Gauteng Chapter Community to chat about the latest news and developments in cybersecurity to boost your awareness. \nTo see what has been trending in cybersecurity recently\, check out the links in our NEWS section. \nWe have barely started 2023 and already there is a growing list of cyber-attacks\, ransomware attacks\, and data breaches. \nWell-known firms\, including healthcare providers\, educational institutions\, and government departments\, have reportedly become targets of cyber-attacks already at the start of the year. \nOur aim is not to promote FUD (fear\, uncertainty\, and doubt)  but to emphasize that the threat of cyber attacks and ransomware attacks continues to grow\, and it is imperative for you to take action to protect your organization and personal profile in 2023. By staying informed\, enforcing strong security measures\, and educating employees and families\, everyone across the world can reduce their risk of falling victim to these hacks. \nThis virtual event qualifies for 1 CPE credit. \nSign Up with the Chapter to RSVP \nSIGN UP\nCompleted Sign Up? RSVP HERE\nEvent Agenda\n17h30: Welcome (Membership Chair) \n17h35: Topics under discussion and community Interaction (Facilitated by Willie – Member Coordinator) \n18:25: Closing (Rachel Chinyoka – Chapter Secretary) \nSIGN UP\nCompleted Sign Up? RSVP HERE
URL:https://isc2gauteng.org/event/grab-a-brew-chapter-meeting/
CATEGORIES:Cybersecurity Awareness
ATTACH;FMTTYPE=image/png:https://isc2gauteng.org/wp-content/uploads/2023/01/cyber-security-internet-security-computer-security-1805632.png
ORGANIZER;CN="ISC2 Chapter Gauteng":MAILTO:events@isc2gauteng.org
END:VEVENT
END:VCALENDAR